BEGIN:VCALENDAR
VERSION:2.0
PRODID:-//Instituto Fabián Calle - ECPv5.7.0//NONSGML v1.0//EN
CALSCALE:GREGORIAN
METHOD:PUBLISH
X-WR-CALNAME:Instituto Fabián Calle
X-ORIGINAL-URL:https://institutocalle.edu.ar
X-WR-CALDESC:Events for Instituto Fabián Calle
BEGIN:VTIMEZONE
TZID:America/Sao_Paulo
BEGIN:STANDARD
TZOFFSETFROM:-0200
TZOFFSETTO:-0300
TZNAME:-03
DTSTART:20190217T020000
END:STANDARD
END:VTIMEZONE
BEGIN:VEVENT
DTSTART;TZID=America/Sao_Paulo:20190801T180000
DTEND;TZID=America/Sao_Paulo:20190802T230000
DTSTAMP:20260421T093949
CREATED:20190528T163355Z
LAST-MODIFIED:20190528T163355Z
UID:269-1564682400-1564786800@institutocalle.edu.ar
SUMMARY:Inscripción a Mesas de Examen Agosto 2019
DESCRIPTION:La inscripción a las mesas de examen de agosto 2019 se llevarán a cabo los días 1 y 2 de agosto de 2019.
URL:https://institutocalle.edu.ar/event/inscripcion-a-mesas-de-examen-agosto-2019/
LOCATION:Instituto Fabian Calle\, Patricias Mendocinas 605 Ciudad\, Mendoza\, Mendoza\, 5500\, Argentina
ORGANIZER;CN="Instituto%20Fabian%20Calle":MAILTO:nuevospostulantes@institutocalle.edu.ar
END:VEVENT
END:VCALENDAR